BEGIN:VCALENDAR
VERSION:2.0
PRODID:-//wp-events-plugin.com//7.2.3//EN
TZID:Europe/Berlin
X-WR-TIMEZONE:Europe/Berlin
BEGIN:VEVENT
UID:479@myredteam.de
DTSTART;TZID=Europe/Berlin:20260208T150000
DTEND;TZID=Europe/Berlin:20260208T183000
DTSTAMP:20251205T170142Z
URL:https://www.myredteam.de/events/erste-hilfe-am-hund-am-08-02-2026/
SUMMARY:Erste Hilfe am Hund am 08.02.2026
DESCRIPTION:In unseren Kursen sprechen wir über viele Themen und Notfallsi
 tuation die Dich und Deinen Hund erwarten könnten. Im Training an unserer
  lebensgroßen Reanimations-Hundepuppe zeigen  wir dir die notwendigen Ma
 ßnahmen\, um im äußerst kritischen Notfall effektiv helfen zu können.\
 n\nDiese Inhalte erwarten Dich:\n\n 	Herzlungenwiederbelebung\n 	Verletzun
 gen des Hundes\n 	Bewusstlosigkeit\n 	Schock\n 	Akute Erkrankungen\n 	Rech
 tsfragen\n\nAm Ende des Kurses erhältst Du eine Urkunde und Infomaterial.
  Vier Unterrichtseinheiten von 15:00 Uhr bis ca. 18:30 Uhr.
CATEGORIES:Erste Hilfe am Hund
LOCATION:Hamburg Wandsbek\, Wandsbeker Chaussee 238\, Hamburg\, 22089\, Deu
 tschland
X-APPLE-STRUCTURED-LOCATION;VALUE=URI;X-ADDRESS=Wandsbeker Chaussee 238\, H
 amburg\, 22089\, Deutschland;X-APPLE-RADIUS=100;X-TITLE=Hamburg Wandsbek:g
 eo:0,0
END:VEVENT
BEGIN:VTIMEZONE
TZID:Europe/Berlin
X-LIC-LOCATION:Europe/Berlin
BEGIN:STANDARD
DTSTART:20251026T020000
TZOFFSETFROM:+0200
TZOFFSETTO:+0100
TZNAME:CET
END:STANDARD
END:VTIMEZONE
END:VCALENDAR