BEGIN:VCALENDAR
VERSION:2.0
PRODID:-//wp-events-plugin.com//7.2.3//EN
TZID:Europe/Berlin
X-WR-TIMEZONE:Europe/Berlin
BEGIN:VEVENT
UID:442@myredteam.de
DTSTART;TZID=Europe/Berlin:20260214T100000
DTEND;TZID=Europe/Berlin:20260214T140000
DTSTAMP:20251001T134348Z
URL:https://www.myredteam.de/events/erste-hilfe-am-kind-in-hamm-14-02-2026
 -deutsch-englisch/
SUMMARY:Erste Hilfe am Kind in Hamm 14.02.2026 (Deutsch)
DESCRIPTION:Dieser Kurs richtet sich an (werdende) Eltern\, Großeltern und
  andere Privatpersonen die für den Notfall bei Kindern gewappnet sein wol
 len. Mit unserem Kurs „Erste Hilfe am Kind“ vermitteln wir Ihnen das n
 otwendige Wissen und die richtigen Techniken\, damit Sie bis der Rettungsw
 agen eintrifft\, richtig und einfach helfen können.\n\nDieser Kurs wird z
 weisprachig auf Deutsch gehalten.\n\n 	Kursdauer: 4 Stunden\n 	Sprachen: D
 eutsch\n\n&nbsp\;
CATEGORIES:Erste Hilfe am Kind
LOCATION:Hamburg Hamm\, Grootsruhe 2 (im Haus für Geburt und Gesundheit)\,
  Hamburg\, 20537\, Deutschland
X-APPLE-STRUCTURED-LOCATION;VALUE=URI;X-ADDRESS=Grootsruhe 2 (im Haus für 
 Geburt und Gesundheit)\, Hamburg\, 20537\, Deutschland;X-APPLE-RADIUS=100;
 X-TITLE=Hamburg Hamm:geo:0,0
END:VEVENT
BEGIN:VTIMEZONE
TZID:Europe/Berlin
X-LIC-LOCATION:Europe/Berlin
BEGIN:STANDARD
DTSTART:20251026T020000
TZOFFSETFROM:+0200
TZOFFSETTO:+0100
TZNAME:CET
END:STANDARD
END:VTIMEZONE
END:VCALENDAR