BEGIN:VCALENDAR
VERSION:2.0
PRODID:-//wp-events-plugin.com//7.2.3//EN
TZID:Europe/Berlin
X-WR-TIMEZONE:Europe/Berlin
BEGIN:VEVENT
UID:148@myredteam.de
DTSTART;TZID=Europe/Berlin:20250621T130000
DTEND;TZID=Europe/Berlin:20250621T170000
DTSTAMP:20241120T193807Z
URL:https://www.myredteam.de/events/erste-hilfe-am-kind-in-hamm-14-06-2025
 /
SUMMARY:Erste Hilfe am Kind in Hamm 21.06.2025
DESCRIPTION:Dieser Kurs richtet sich an (werdende) Eltern\, Großeltern und
  andere Privatpersonen die für den Notfall bei Kindern gewappnet sein wol
 len. Mit unserem Kurs „Erste Hilfe am Kind“ vermitteln wir Ihnen das n
 otwendige Wissen und die richtigen Techniken\, damit Sie bis der Rettungsw
 agen eintrifft\, richtig und einfach helfen können.\n\n 	Kursdauer: 4-6 S
 tunden (gern passen wir uns an Ihre zeitlichen Vorgaben an)\n 	Sprachen: D
 eutsch\, Englisch &amp\; Französisch möglich\n
CATEGORIES:Erste Hilfe am Kind
LOCATION:Hamburg Hamm\, Grootsruhe 2 (im Haus für Geburt und Gesundheit)\,
  Hamburg\, 20537\, Deutschland
X-APPLE-STRUCTURED-LOCATION;VALUE=URI;X-ADDRESS=Grootsruhe 2 (im Haus für 
 Geburt und Gesundheit)\, Hamburg\, 20537\, Deutschland;X-APPLE-RADIUS=100;
 X-TITLE=Hamburg Hamm:geo:0,0
END:VEVENT
BEGIN:VTIMEZONE
TZID:Europe/Berlin
X-LIC-LOCATION:Europe/Berlin
BEGIN:DAYLIGHT
DTSTART:20250330T030000
TZOFFSETFROM:+0100
TZOFFSETTO:+0200
TZNAME:CEST
END:DAYLIGHT
END:VTIMEZONE
END:VCALENDAR