BEGIN:VCALENDAR
VERSION:2.0
PRODID:-//wp-events-plugin.com//7.2.3//EN
TZID:Europe/Berlin
X-WR-TIMEZONE:Europe/Berlin
BEGIN:VEVENT
UID:289@myredteam.de
DTSTART;TZID=Europe/Berlin:20260614T100000
DTEND;TZID=Europe/Berlin:20260614T163000
DTSTAMP:20251221T083825Z
URL:https://www.myredteam.de/events/erste-hilfe-fuer-fahrschueler-in-alton
 a-14-06-2026/
SUMMARY:Erste Hilfe für Fahrschüler in Altona 14.06.2026
DESCRIPTION:Unsere Erste-Hilfe-Kurse für Fahrschüler sind speziell für a
 lle gedacht\, die diesen Kurs für den Führerscheinerwerb benötigen. In 
 unseren Kursen vermitteln wir Ihnen das notwendige Wissen und die richtige
 n Techniken\, um im Notfall am Unfallort bis zum Eintreffen des Rettungswa
 gens effektiv und unkompliziert helfen zu können.
CATEGORIES:Erste Hilfe für Fahrschüler
LOCATION:Hamburg Altona\, Lobuschstrasse 14 (in der Fahrschule Altona)\, Ha
 mburg\, 22765\, Deutschland
X-APPLE-STRUCTURED-LOCATION;VALUE=URI;X-ADDRESS=Lobuschstrasse 14 (in der F
 ahrschule Altona)\, Hamburg\, 22765\, Deutschland;X-APPLE-RADIUS=100;X-TIT
 LE=Hamburg Altona:geo:0,0
END:VEVENT
BEGIN:VTIMEZONE
TZID:Europe/Berlin
X-LIC-LOCATION:Europe/Berlin
BEGIN:DAYLIGHT
DTSTART:20260329T030000
TZOFFSETFROM:+0100
TZOFFSETTO:+0200
TZNAME:CEST
END:DAYLIGHT
END:VTIMEZONE
END:VCALENDAR