BEGIN:VCALENDAR
VERSION:2.0
PRODID:-//wp-events-plugin.com//7.2.3//EN
TZID:Europe/Berlin
X-WR-TIMEZONE:Europe/Berlin
BEGIN:VEVENT
UID:280@myredteam.de
DTSTART;TZID=Europe/Berlin:20251018T143000
DTEND;TZID=Europe/Berlin:20251018T183000
DTSTAMP:20250928T223457Z
URL:https://www.myredteam.de/events/first-aid-for-infant-in-hamm-18-10-202
 5-nur-auf-englisch/
SUMMARY:First aid for infants and children in Hamm 18.10.2025 (English)
DESCRIPTION:This course is aimed at (expecting) parents\, grandparents\, an
 d other individuals who want to be prepared for emergencies involving chil
 dren. Our "First Aid for Children" course will teach you the necessary kno
 wledge and right techniques so you can provide proper and easy care until 
 the ambulance arrives.\n\n\n 	Course duration: 4 hours\n 	Language: Englis
 h\n
CATEGORIES:Erste Hilfe am Kind
LOCATION:Hamburg Hamm\, Grootsruhe 2 (im Haus für Geburt und Gesundheit)\,
  Hamburg\, 20537\, Deutschland
X-APPLE-STRUCTURED-LOCATION;VALUE=URI;X-ADDRESS=Grootsruhe 2 (im Haus für 
 Geburt und Gesundheit)\, Hamburg\, 20537\, Deutschland;X-APPLE-RADIUS=100;
 X-TITLE=Hamburg Hamm:geo:0,0
END:VEVENT
BEGIN:VTIMEZONE
TZID:Europe/Berlin
X-LIC-LOCATION:Europe/Berlin
BEGIN:DAYLIGHT
DTSTART:20250330T030000
TZOFFSETFROM:+0100
TZOFFSETTO:+0200
TZNAME:CEST
END:DAYLIGHT
END:VTIMEZONE
END:VCALENDAR